BEGIN:VCALENDAR
VERSION:2.0
X-WR-CALNAME:www.indybay.org
PRODID:-//indybay/ical// v1.0//EN
BEGIN:VEVENT
UID:Indybay-18779646
SEQUENCE:18904693
CREATED:20151104T211000Z
DESCRIPTION:more info asnd pics occupyoakland.org \n\nAttach is the flier that we will 
 be using tonight –  one page – 2 sided with 3 panels. Much appreciation 
 to Curt for the flier.\n\n \n\n \n\nJOIN CODEPINK, WORLD CAN’T WAIT, 
 OCCUPYSF ACTION COUNCIL\n\nand others for our weekly PEACE VIGIL\n\n 
 \n\nWednesday, November 4th\n\n5:30-6:30 p.m.\n\nat the huge PEACE banner   
  \n\n Montgomery and Market in San Francisco.\n\n(on the steps facing 
 Market Street, below Feinstein’s office,\n\ndirectly above the Montgomery 
 BART/Muni station)\n\nSan Francisco\n\n \n\n \n\nIt is with great sadness 
 and fond memories that we are focusing our vigil on Wednesday, November 4th 
 to Michael Clift, known in activist circles as “Pirate Mike”.\n\nPirate 
 died last Friday after being struck by a vehicle Thursday evening west of 
 Groom, Texas.\n\n \n\nClift was on his “Odyssey for Peace” to bring 
 attention to how “American citizens have shamefully and quietly passed by 
 thousands of homeless and needy veterans living on the streets of our small 
 towns, the steam grates of our teeming cities, and in the canyons and wilds 
 of suburbia from Washington, D.C. to the shores of California.”\n\n 
 \n\nPlease join our homage to Pirate Mike.  Bring your memories, 
 memorabilia, photos, flowers, candles, VFP Flags or just come and celebrate 
 the life of a great activist.\n\nJoin us in honoring Mike and continuing 
 his efforts to QUESTION AUTHORITY.\n\nFor more on Pirate Mike 
 see:\n\nhttp://occupyveteranssanfrancisco.weebly.com\n 
 https://www.indybay.org/newsitems/2015/11/04/18779646.php
SUMMARY:Please join our homage to Pirate Mike. Bring your memories, memorabilia, photos, flowers,
LOCATION:Mongomery st and Market san francisco 
URL:https://www.indybay.org/newsitems/2015/11/04/18779646.php
DTSTART:20151105T013000Z
DTEND:20151105T030000Z
END:VEVENT
END:VCALENDAR
