BEGIN:VCALENDAR
VERSION:2.0
X-WR-CALNAME:www.indybay.org
PRODID:-//indybay/ical// v1.0//EN
BEGIN:VEVENT
UID:Indybay-18779375
SEQUENCE:18904307
CREATED:20151029T150900Z
DESCRIPTION:Please join the First Amendment Coalition for a panel discussion focused on 
 the important issues of public oversight and access to law enforcement, 
 including body cams; public access to emails on private electronic  
 devices; the state of the law on whether the public has access to police 
 disciplinary proceedings, and public access to information about 
 officer-involved shootings.\n\nSpeakers: \nGARY DELAGNES SFPD, Inspector, 
 retired; past President of the Police Officers Association; PETER KEANE, 
 Law Professor & Dean Emeritus, Golden Gate University Law School; QUENTIN 
 KOPP San Mateo Superior Court Judge;  BOB EGELKO, Courts Reporter, San 
 Francisco Chronicle; KARL OLSON, Attorney and Partner Ram & Olson, LLP, San 
 Francisco; PETER SCHEER, Executive Director, First Amendment Coalition 
 \n\nADMISSION IS FREE; SEATING IS LIMITED. PLEASE MAKE YOUR RESERVATION 
 TODAY!   https://pulling-back-the-blue-curtain.eventbrite.com\n 
 https://www.indybay.org/newsitems/2015/10/29/18779375.php
SUMMARY:Pulling Back the Blue Curtain: Police, Privacy & Public Exposure
LOCATION:San Francisco Public Library, Koret Auditorium, 100 Larkin Street, San 
 Francisco
URL:https://www.indybay.org/newsitems/2015/10/29/18779375.php
DTSTART:20151111T013000Z
DTEND:20151111T033000Z
END:VEVENT
END:VCALENDAR
