BEGIN:VCALENDAR
VERSION:2.0
X-WR-CALNAME:www.indybay.org
PRODID:-//indybay/ical// v1.0//EN
BEGIN:VEVENT
UID:Indybay-18779225
SEQUENCE:18904085
CREATED:20151024T210200Z
DESCRIPTION:OVERTHROWING CAPITALISM: A Festival with Poetry,  Speakers, and Music, 
 presented by the Revolutionary Poets Brigade. Over 30 poets and musicians. 
 Speakers Donald Lacy, Karl Beitel, and Smadar Lavie. This is also a book 
 launch for the new poetry anthology, OVERTHROWING CAPITALISM, volume 2, 
 edited by Jack Hirschman and John Curl. At Unitarian Church, 1187 Franklin 
 St., San Francisco. Admission free. Wheelchair accessible. More info: 
 www.revolutionarypoetsbrigade.org\n 
 https://www.indybay.org/newsitems/2015/10/24/18779225.php
SUMMARY:Overthrowing Capitalism Festival
LOCATION:Unitarian Church, 1187 Franklin St., San Francisco
URL:https://www.indybay.org/newsitems/2015/10/24/18779225.php
DTSTART:20151107T220000Z
DTEND:20151108T050000Z
END:VEVENT
END:VCALENDAR
