BEGIN:VCALENDAR
VERSION:2.0
X-WR-CALNAME:www.indybay.org
PRODID:-//indybay/ical// v1.0//EN
BEGIN:VEVENT
UID:Indybay-18778875
SEQUENCE:18903549
CREATED:20151015T175200Z
DESCRIPTION:Sunday Morning at the Marxist Library\n\nThe 2016 Presidential Debates: 
 \nAlternatives to the Duopoloy\n\nThe Republicans and Democrats have had 
 their televised debates, but what about alternative parties? We are 
 inviting speakers from the two left parties on the ballot in California: 
 the Peace and Freedom Party and the Green Party. Gloria La Riva will speak 
 from the perspective of the Peace and Freedom Party. Gloria is also a 
 member of the Party for Socialism and Liberation and is the only declared 
 candidate for the PFP presidential nomination. Laura Wells will speak from 
 the perspective of the Green Party, which has five declared candidates for 
 its presidential nomination. Laura was the Green Party candidate for 
 Governor in 2010, when she was arrested for trying to attend a 
 gubernatorial debate in San Rafael.\n             \nSunday, Oct 18, 2015 - 
 10:30 am to 12:30 pm\n6501 Telegraph Avenue, Oakland (just North of 
 Alcatraz Ave.)\n\nSeating is limited, so plan to come early. We start 
 promptly.\nFREE - but hat will be passed for donations to NPML\n\nAbout 
 Sunday Morning at the Marxist Library\nA weekly discussion series inspired 
 by our respect for the work of Karl Marx and our belief that his work will 
 remain as important for the class struggles of the future as they have been 
 for the past. \n\nFor info or to subscribe to our weekly announcements, 
 \nCall Gene Ruyle at 510-428-1578 or email: cuyleruyle@mac.com\nFor our 
 full schedule, go to icssmarx.org \n\n 
 https://www.indybay.org/newsitems/2015/10/15/18778875.php
SUMMARY:The 2016 Presidential Debates: Alternatives to the Duopoloy
LOCATION:NPML, 6501 Telegraph Avenue, Oakland (just North of Alcatraz Ave.)\n
URL:https://www.indybay.org/newsitems/2015/10/15/18778875.php
DTSTART:20151018T173000Z
DTEND:20151018T193000Z
END:VEVENT
END:VCALENDAR
