BEGIN:VCALENDAR
VERSION:2.0
X-WR-CALNAME:www.indybay.org
PRODID:-//indybay/ical// v1.0//EN
BEGIN:VEVENT
UID:Indybay-18778589
SEQUENCE:18903218
CREATED:20151008T202700Z
DESCRIPTION:10/19 SF Rally And Speak Out On Freedom from Workplace Bullies Week\nSF 
 City Hall Rally & Speak Out Against Workplace Bullying\nOctober 19, 2015 
 5:00 PM San Francisco City Hall Polk and McAllister St. SF\nNational 
 Freedom From Workplace Bullies is held every year in the United States to 
 publicize the epidemic of workplace bullying in private industry and public 
 service jobs.\nAll workers should have the right to work in a safe healthy 
 environment without being bullied. Workplace bullying which is not illegal 
 in California forces many workers to go on to workers comp and disability 
 thereby harming them and their families and in some cases destroying their 
 lives and their careers.\nWorkplace bullying is also used to harass and in- 
 timidate those workers who support unions at non- union work locations and 
 speak out against racial and sexual discrimination in the workplace. Whis- 
 tleblowers are also targeted who stand up for the public.\nThe scapegoating 
 and bullying against working people and their unions is a growing menace to 
 the public and all working people as well as creating an extremely 
 unhealthy society.\nTeachers and other public workers also have faced 
 harassment and bullying on the job including blaming public workers for 
 work issues while pub- lic services are being privatized.\nThis rally is 
 part of a national campaign to pass legislation in every state to make it 
 illegal to bully and harass workers at their jobs and workers both union 
 and non-union in San Francisco need to be free of such behavior.\nEndorsed 
 by :\nEndorsed by :\nSEIU 1021 SEJ Committee,\nSF General Hospital 
 Chapter,\nSEIU 1021 COPE,\nCalifornia CA Healthy Workplace Advocates 
 http://www.healthyworkplacebill.org, \nStop Workplace Bullying Group SWBG 
 http://stopworkplacebullyinggroup.org\nInjured Workers National Network 
 www.iwnn.org\nUnited Public Workers For Action www.upwa.info,\nTransport 
 Workers Solidarity Committee www.transportworkers.org\nFor more information 
 and or to endorse: Call: 925-437-0593, 415-282-1908\n\n 
 https://www.indybay.org/newsitems/2015/10/08/18778589.php
SUMMARY:SF Rally And Speak Out On Freedom from Workplace Bullies Week
LOCATION:San Francisco City Hall\nPolk And McAllister St.\nSan Francisco
URL:https://www.indybay.org/newsitems/2015/10/08/18778589.php
DTSTART:20151020T000000Z
DTEND:20151020T010000Z
END:VEVENT
END:VCALENDAR
