BEGIN:VCALENDAR
VERSION:2.0
X-WR-CALNAME:www.indybay.org
PRODID:-//indybay/ical// v1.0//EN
BEGIN:VEVENT
UID:Indybay-18778399
SEQUENCE:18902941
CREATED:20151004T214500Z
DESCRIPTION:Film evenings begin with optional potluck refreshments & social hour at 
 6:30 pm,\nfollowed by the film at 7:30 pm, followed by optional discussion 
 after the film.\n\nBITTER LAKE, Part 1\n\nBy Adam Curtis\n\nFor a 
 description of this film, see the website shown below.\n\nHumanist Hall is 
 wheelchair accessible around the corner at  411  28th  Street.\n\n$5 
 donations are expected.\n 
 https://www.indybay.org/newsitems/2015/10/04/18778399.php
SUMMARY:Bitter Lake, Part I
LOCATION:Humanist Hall\n390  27th  Street\nuptown Oakland, between Telegraph and 
 Broadway\nhttp://www.HumanistHall.org
URL:https://www.indybay.org/newsitems/2015/10/04/18778399.php
DTSTART:20151008T023000Z
DTEND:20151008T043000Z
END:VEVENT
END:VCALENDAR
