BEGIN:VCALENDAR
VERSION:2.0
X-WR-CALNAME:www.indybay.org
PRODID:-//indybay/ical// v1.0//EN
BEGIN:VEVENT
UID:Indybay-18777971
SEQUENCE:18902296
CREATED:20150922T205900Z
DESCRIPTION:Blurb: Now in its 16th year, the annual Day of the Dead exhibition at 
 SOMArts Cultural Center merges traditional Mexican altars with contemporary 
 art installations to present a visually stimulating array of perspectives 
 remembering, honoring, and celebrating the dead. Inspired by cherished 
 relationships, current events, and personal and collective histories, more 
 than 25 altars by over 50 participating artists build a dense environment 
 of creativity that makes way for meaningful reflection. The exhibition 
 unveiling and Día de los Muertos inspired artist market, Friday, October 
 9, 6–9pm, $12–15 sliding scale admission, features music and theatre 
 ensemble Loco Bloco, who will present an opening procession that winds 
 through the exhibit. Poet and performance artist Denise Benavides will host 
 the opening event, performing alongside poet Adrian Arias. Advance tickets 
 are strongly encouraged.\n 
 https://www.indybay.org/newsitems/2015/09/22/18777971.php
SUMMARY:Today is the Shadow of Tomorrow: Día de los Muertos Exhibition 2015 Opening
LOCATION:SOMArts Cultural Center, 934 Brannan St. (cross is 8th St.)
URL:https://www.indybay.org/newsitems/2015/09/22/18777971.php
DTSTART:20151010T010000Z
DTEND:20151010T040000Z
END:VEVENT
END:VCALENDAR
