BEGIN:VCALENDAR
VERSION:2.0
X-WR-CALNAME:www.indybay.org
PRODID:-//indybay/ical// v1.0//EN
BEGIN:VEVENT
UID:Indybay-18777880
SEQUENCE:18902145
CREATED:20150920T203700Z
DESCRIPTION:Present a copy of the flyer OR mention the ASPCA and 33% of your purchase 
 will be donated back to Team ASPCA!\n 
 https://www.indybay.org/newsitems/2015/09/20/18777880.php
SUMMARY:ASPCA Fundraiser at Veggie Grill
LOCATION:Veggie Grill Westgate\n1692 Saratoga Ave.\nSan Jose, CA 95129
URL:https://www.indybay.org/newsitems/2015/09/20/18777880.php
DTSTART:20151014T000000Z
DTEND:20151014T040000Z
END:VEVENT
END:VCALENDAR
