BEGIN:VCALENDAR
VERSION:2.0
X-WR-CALNAME:www.indybay.org
PRODID:-//indybay/ical// v1.0//EN
BEGIN:VEVENT
UID:Indybay-18776330
SEQUENCE:18900001
CREATED:20150818T061100Z
DESCRIPTION:Mindful Communication: Foundations\n\n* Core tools for effective 
 dialogue\n* Training in empathy and resilience\n* Practices to deepen 
 self-understanding\n\nInfo/Registration: 
 \nwww.orenjaysofer.com\n\nCommunication sits at the center of our lives – 
 personally, professionally, and spiritually. This eight-week course offers 
 in- depth training in the foundations of an integrated approach to 
 communication.\n\nDrawing upon the modern disciplines of Nonviolent 
 Communication and trauma healing, as well as mindfulness practices from the 
 Buddhist tradition, the curriculum offers concrete tools to hold one’s 
 own while still hearing others, and to engage effectively and efficiently 
 in collaboration.\n\nThrough a combination of mindfulness practices, guided 
 reflections and interactive exercises, participants will develop a stronger 
 sense of presence, greater access to compassion and more versatile, clearer 
 communication. This class is appropriate for both experienced and newer 
 students, therapists and other helping professionals.\n\nEight Week 
 Series:\nTuesdays, San Francisco: Sept. 29 - Nov. 17, 2015\n6:30 - 9:00 
 p.m. \n\nInfo/Registration:\nwww.orenjaysofer.com \nSpace is limited; 
 register early!\n*Scholarships and work-trade available*\n\n 
 https://www.indybay.org/newsitems/2015/08/17/18776330.php
SUMMARY:Mindful Communication: Foundations
LOCATION:Against The Stream\n2701 Folsom Street\nSan Francisco, CA 94110
URL:https://www.indybay.org/newsitems/2015/08/17/18776330.php
DTSTART:20150930T013000Z
DTEND:20150930T040000Z
END:VEVENT
END:VCALENDAR
