BEGIN:VCALENDAR
VERSION:2.0
X-WR-CALNAME:www.indybay.org
PRODID:-//indybay/ical// v1.0//EN
BEGIN:VEVENT
UID:Indybay-18776216
SEQUENCE:18899820
CREATED:20150815T205000Z
DESCRIPTION:Defend Knowland Park! Direct Action and Call-in against Chain Link Fence 
 and Supply 
 Inc.\n\nhttps://www.facebook.com/events/953130058065883/\n\nChain Link 
 Fencing and Supply Inc. (a non-union company) has started to construct a 
 mile-long perimeter fence around the proposed development. We can find no 
 approved building permit for this construction so this fence may be 
 "illegal".  No permit is posted on-site and there has been no response 
 about the fencing from the City building permit staff. Therefore, it is 
 within our "legal" right to take direct action  and stop fencing from going 
 up .\n\nPlease Join us, Monday - August 19th at Knowland Park to demand 
 their permit to work or if you cannot make it call and email their office 
 repeatedly to jam their lines and respectfully demand information regarding 
 their Work Permit for fencing construction at Knowland Park.\n\nMonday - 
 August 19th - 11 AM - Knowland Park entrance at the end of Edgemont way 
 near Edgemont and  Malcolm ave. - Oakland, CA\n\nIf you can offer a ride or 
 need a ride  from Coliseum Bart or the 57 Bus, Oakland , Berkeley or SF 
 please sign up here: http://www.groupcarpool.com/t/gb9ejt\n\nChain Link 
 Fence and Supply Inc. - 2040 Research Dr, Livermore, CA 94550 - (925) 
 606-8167 - INFO@FENCESUPPLY.ORG - OPEN M-F 8AM-4PM\n 
 https://www.indybay.org/newsitems/2015/08/15/18776216.php
SUMMARY:Defend Knowland Park! Direct Action and Call-in against Chain Link Fence and Supply Inc.
LOCATION:Monday - August 19th - 11 AM - Knowland Park entrance at the end of 
 Edgemont way near Edgemont and  Malcolm ave. - Oakland, CA
URL:https://www.indybay.org/newsitems/2015/08/15/18776216.php
DTSTART:20150816T190000Z
DTEND:20150816T190000Z
END:VEVENT
END:VCALENDAR
