BEGIN:VCALENDAR
VERSION:2.0
X-WR-CALNAME:www.indybay.org
PRODID:-//indybay/ical// v1.0//EN
BEGIN:VEVENT
UID:Indybay-18776175
SEQUENCE:18899771
CREATED:20150814T194300Z
DESCRIPTION:The vicious slander and attacks on Planned Parenthood must be stopped!  
 This whole dangerous campaign—from the internet to the courtrooms to the 
 U.S. Senate – is right now the leading edge of the all-out assault on 
 women’s fundamental right to abortion.  The entire war on women’s 
 abortion rights must be stopped!\n\nFetuses are NOT babies. Abortion is NOT 
 murder. Women are NOT incubators.\n\nThere is NOTHING wrong with abortion, 
 and there is NOTHING wrong with women and Planned Parenthood donating fetal 
 tissue for research.  These are actually very good and moral things, and 
 should be defended and fought for straight up.  The attacks on Planned 
 Parenthood should be offensive to anyone who cares about science and about 
 women. \n\nFetal tissue is just tissue. Women are full human beings!\n\nOn 
 August 22, the woman-haters,  those who terrorize and try to criminalize 
 doctors for helping women, and all those who blindly follow, are mobilizing 
 to protest at Planned Parenthood sites nationwide and holding press 
 conferences.  Everyone who cares about the lives and future of women should 
 act to oppose these dirty attacks.\n\nOn August 22, counter-protest the 
 anti-abortion actions against Planned Parenthood.  Take back the moral high 
 ground for abortion rights.  Change the terms of this fight:  The fight 
 over abortion has never been about babies. It has always been about 
 controlling women.\n\nGrab a friend or two, or mobilize a bigger group, to 
 take out signs that say:  \n\nSTOP the attacks on Planned 
 Parenthood!\nAbortion On Demand & Without Apology!\n\nNational Facebook 
 Event to share: \nhttps://www.facebook.com/events/1611369359112012/\n 
 https://www.indybay.org/newsitems/2015/08/14/18776175.php
SUMMARY:STOP the attacks on Planned Parenthood! Abortion On Demand & Without Apology! PROTEST!
LOCATION:NATIONWIDE - In SF at 1650 Valencia Street - ADD MORE Bay Area and other 
 locations HERE: 
 http://www.stoppatriarchy.org/stop-the-attacks-on-planned-parenthood.html
URL:https://www.indybay.org/newsitems/2015/08/14/18776175.php
DTSTART:20150822T160000Z
DTEND:20150822T180000Z
END:VEVENT
END:VCALENDAR
