BEGIN:VCALENDAR
VERSION:2.0
X-WR-CALNAME:www.indybay.org
PRODID:-//indybay/ical// v1.0//EN
BEGIN:VEVENT
UID:Indybay-18775884
SEQUENCE:18899364
CREATED:20150806T224000Z
DESCRIPTION:Our second screening of the Green Reel Film Festival will be:\n GMO-OMG-If 
 you are what you eat, then do you know what \n                  you are 
 eating? In the film, GMO OMG, film maker\n                  Jeremy Seifert, 
 takes us on a journey seeking the\n                  answer to that 
 question. We will travel to Haiti ,Paris\n                  Norway and to 
 the headquarters of Monsanto, the \n                  largest provider of 
 GMO's in the U.S. seeking the\n                  answer to the ultimate 
 question about what we eat.\n\n                  A representative from 
 Label GMO's will give an\n                  overview of GMO's and the 
 movement including \n                   updates on recent legislation.\n    
                \n https://www.indybay.org/newsitems/2015/08/06/18775884.php
SUMMARY:SENSIBLE'S CINEMA 5TH ANNUAL GREEN REEL FILM FESTIVAL
LOCATION:UNITARIAN  UNIVERSALIST CENTER\n  1187 FRANKLIN/GEARY\n SAN FRANCISCO
URL:https://www.indybay.org/newsitems/2015/08/06/18775884.php
DTSTART:20150808T013000Z
DTEND:20150808T033000Z
END:VEVENT
END:VCALENDAR
