BEGIN:VCALENDAR
VERSION:2.0
X-WR-CALNAME:www.indybay.org
PRODID:-//indybay/ical// v1.0//EN
BEGIN:VEVENT
UID:Indybay-18774786
SEQUENCE:18897698
CREATED:20150712T035500Z
DESCRIPTION:Presentation by Mateo Hoke, co-editor of Palestine Speaks, Narratives of 
 Life Under Occupation, a Voice of Witness book, $5-25, a benefit to move, 
 relaunch and save Revolution Books\n 
 https://www.indybay.org/newsitems/2015/07/11/18774786.php
SUMMARY:Palestine Speaks, Narratives of Life Under Occupation
LOCATION:Revolution Books, 2425 Channing Way, Berkeley near Telegraph Avenue
URL:https://www.indybay.org/newsitems/2015/07/11/18774786.php
DTSTART:20150716T020000Z
DTEND:20150716T040000Z
END:VEVENT
END:VCALENDAR
