BEGIN:VCALENDAR
VERSION:2.0
X-WR-CALNAME:www.indybay.org
PRODID:-//indybay/ical// v1.0//EN
BEGIN:VEVENT
UID:Indybay-18774746
SEQUENCE:18897645
CREATED:20150711T002100Z
DESCRIPTION:If you live in Contra Costa County, you may have heard of a massive effort 
 called the Northern Waterfront Economic Development Initiative, which aims 
 to re-industrialize the coastline along the Carquinez Strait. However, 
 it’s more likely you might not have heard about it, since it has been 
 operating mostly behind closed doors, with minimal input from local 
 residents. Launched in 2013, this initiative is an economic development 
 revitalization “framework” led by Supervisors Federal Glover and Mary 
 Piepho, and targets the towns of Hercules, Martinez, Concord, Pittsburg, 
 Antioch, and Oakley, as well as unincorporated waterfront cities. Join us 
 for a meeting to learn about the current plan from county leaders, and then 
 hear from community residents and organizations advocating for an 
 alternate, sustainable vision towards clean air, water and soil, renewable 
 energy and sustainable businesses. RSVP is required and a light lunch will 
 be provided. Organized & Sponsored by Bay Area Refinery Corridor Coalition, 
 and the Sierra Club SF Chapter. RSVP at 
 http://northernwaterfrontlunchrsvp.eventbrite.com \n 
 https://www.indybay.org/newsitems/2015/07/10/18774746.php
SUMMARY:Community Meeting: Our Vision of the Northern Waterfront
LOCATION:Nick Rodriguez Community Center\n213 F Street, Antioch, CA 94509, USA
URL:https://www.indybay.org/newsitems/2015/07/10/18774746.php
DTSTART:20150815T170000Z
DTEND:20150815T200000Z
END:VEVENT
END:VCALENDAR
