BEGIN:VCALENDAR
VERSION:2.0
X-WR-CALNAME:www.indybay.org
PRODID:-//indybay/ical// v1.0//EN
BEGIN:VEVENT
UID:Indybay-18774689
SEQUENCE:18897546
CREATED:20150709T175400Z
DESCRIPTION:Folks, here it is!\n\nCAA’s First Official Beach Cleanup.\n\nCannabis 
 Advocates Alliance is teaming up with Big Pete’s Treats and CannaCruz to 
 clean our local beaches and continue to promote environmental 
 awareness!\n\nWednesday, July 15th from 11AM to 2PM. Meet at the Cowell 
 Beach Parking Lot at 11AM!\n\nCannaCruz and Big Pete are also kicking down 
 some nice surprises to those with a valid medical cannabis ID!\n\nBring 
 protective footwear and sunscreen!\n\nFor more info, write us at 
 cannadvocates.org!\n 
 https://www.indybay.org/newsitems/2015/07/09/18774689.php
SUMMARY:Cowell Beach Cleanup
LOCATION:Cowell Beach, Santa Cruz
URL:https://www.indybay.org/newsitems/2015/07/09/18774689.php
DTSTART:20150715T180000Z
DTEND:20150715T210000Z
END:VEVENT
END:VCALENDAR
