BEGIN:VCALENDAR
VERSION:2.0
X-WR-CALNAME:www.indybay.org
PRODID:-//indybay/ical// v1.0//EN
BEGIN:VEVENT
UID:Indybay-18773765
SEQUENCE:18896266
CREATED:20150621T161800Z
DESCRIPTION:Irish Labor History Walk\nWith IBEW electrician Peter O’Driscoll and 
 labor writer and UAW NWU member Larry Shoup.\n This tour will focus on the 
 history of San Francisco’s famed waterfront and the role of its Irish and 
 Irish-American workers, leaders, and martyrs. It will also include the 
 cases of Tom Mooney and Warren Billings who faced a labor frame-up in the 
 Preparedness Day Bombing in San Francisco in July 1916, and the successful 
 struggle for their release. The tour will also view the sculpture dedicated 
 to the waterfront strikers of 1934 and other historic markers along the 
 way. The tour will end inside Rincon Center, discussing the historic murals 
 dedicated to the labor movement in San Francisco.\nSee 
 also:\nhttp://rulersandrebels.com/about/ (Larry 
 Shoup)\nhttp://spartacus-educational.com/USAmooneycase.htm\nhttp://www.dickmeister.com/id331.html 
 (Mooney-Billings 
 case)\nhttps://libcom.org/history/mooney-billings-frame-louis-adamic\nhttp://www.jstor.org/stable/3636876?seq=1#page_scan_tab_contents 
 (Curt Gentry's book, Frame-Up: The Incredible Case of Tom Mooney and Warren 
 Billings)\nhttp://www.waymarking.com/waymarks/WM7MGY_International_Longshoremans_and_Warehousemens_Union_Memorial_San_Francisco_CA 
 (ILWU Steuart St 
 Sculpture)\nhttp://www.sfmuralarts.com/neighborhood/south-of-market/rincon-center/20.html 
 (Rincon Center murals)\nhttp://www.laborfest.net/2015/2015schedule.htm\n 
 https://www.indybay.org/newsitems/2015/06/21/18773765.php
SUMMARY:Laborfest: Irish Labor History Walk
LOCATION:Meet at 240 2nd St. - Front of the Marine Firemen’s Hall near Howard. 
 Montgomery St BART/Muni Metro Station.\n
URL:https://www.indybay.org/newsitems/2015/06/21/18773765.php
DTSTART:20150719T190000Z
DTEND:20150719T210000Z
END:VEVENT
END:VCALENDAR
