BEGIN:VCALENDAR
VERSION:2.0
X-WR-CALNAME:www.indybay.org
PRODID:-//indybay/ical// v1.0//EN
BEGIN:VEVENT
UID:Indybay-18773622
SEQUENCE:18896037
CREATED:20150617T203700Z
DESCRIPTION:Labor Fest 2015! This event is part of the annual month-long celebration of 
 working people and their history in the SF Bay Area. See www.laborfest.net. 
 In the early 1900's, the legendary Joe Hill emigrated from Sweden with his 
 brother to the United States. Joe got a few jobs but was struck by all the 
 injustice and tragedy going on. The American Federation of Labor only 
 organized skilled workers, not unskilled assembly line workers. Joe joined 
 and became active in the Industrial Workers of the World (IWW). In some 
 places unconstitutional laws were passed to forbid freedom of speech and 
 demonstrations. Joe had a significant impact and became popular as an IWW 
 singer but made powerful enemies, too. This film carries you through his 
 powerful and ultimately tragic story.\n\nSponsored by the BFUU Social 
 Justice Ctee and LaborFest 2015 \n\nSuggested donation $5-$20. No one 
 turned away. \nWheelchair accessible.\n\nPh:510-275-4272\n\nFor occasional 
 email notices of peace/eco/social justice alerts and related events at 
 BFUU, send any email to:\nbfuusjev-subscribe@lists.riseup.net\n\nFor weekly 
 notices of BFUU services etc. go to:\nwww.bfuu.org/signup.html\n\n 
 https://www.indybay.org/newsitems/2015/06/17/18773622.php
SUMMARY:LaborFest Screening of: Joe Hill
LOCATION:Berkeley Fellowship of Unitarian Universalists’ Hall \n1924 Cedar 
 (@Bonita), Berkeley   www.bfuu.org\n
URL:https://www.indybay.org/newsitems/2015/06/17/18773622.php
DTSTART:20150710T020000Z
DTEND:20150710T040000Z
END:VEVENT
END:VCALENDAR
