BEGIN:VCALENDAR
VERSION:2.0
X-WR-CALNAME:www.indybay.org
PRODID:-//indybay/ical// v1.0//EN
BEGIN:VEVENT
UID:Indybay-18773501
SEQUENCE:18895882
CREATED:20150615T014900Z
DESCRIPTION:Bread & Roses with Retired Union Members\nCome to an open regular meeting 
 of FORUM (Federation of Retired Union Members), an organization of retirees 
 affiliated with the San Francisco Labor Council.   Retirees come from a 
 spectrum of unions with members and workers in San Francisco.  FORUM 
 supports alliances between working people and retired people to preserve 
 and improve health care, social security and pension benefits.   The July 
 program will briefly highlight members’ current activities and primarily 
 focus on personal recollections of the 1934 General Strike and other 
 significant labor actions.  Anyone with stories to tell about labor history 
 is especially invited to come and share memories.   Refreshments will be 
 served.\nSee also http://www.laborfest.net/2015/2015schedule.htm\n 
 https://www.indybay.org/newsitems/2015/06/14/18773501.php
SUMMARY:Laborfest: Bread & Roses with Retired Union Members
LOCATION:SF Labor Council, 1188 Franklin St., San Francisco. Buses: 38 Geary
URL:https://www.indybay.org/newsitems/2015/06/14/18773501.php
DTSTART:20150707T170000Z
DTEND:20150707T190000Z
END:VEVENT
END:VCALENDAR
