BEGIN:VCALENDAR
VERSION:2.0
X-WR-CALNAME:www.indybay.org
PRODID:-//indybay/ical// v1.0//EN
BEGIN:VEVENT
UID:Indybay-18773383
SEQUENCE:18895756
CREATED:20150612T151200Z
DESCRIPTION:Coming to San Francisco\nThe 83rd Annual Conference of Mayors\nJune 19th 
 – June 22nd\n\nSan Francisco’s Mayor Ed Lee is hosting the 83rd Annual 
 Conference of Mayors. Over 270 Mayors, their families and corporate 
 sponsors will be in attendance.\n\nThis is an opportunity to raise issues 
 Locally and Nationally, that are of concern to us, The People, whom the 
 mayors have resisted, by refusing to act upon, or by acting against our 
 interest. For Instance:\n\n"Black Lives Matter" ~ Police Militarization and 
 Excessive Use of Force ~ Racism ~ Gentrification of our Communities ~ 
 Homelessness ~ Privatization of our Commons ~ Homophobia and Trans-phobia ~ 
 Immigration ~ the Environment ~ Corporate Greed ~ the People's taxes being 
 spent on wars enriching the 1% and not serving the needs of the people and 
 more.\n\nAll are welcome to help plan for actions. Next Meeting:\n\nSunday, 
 June 14, 2015\n\nART PARTY & MEETING\n\n12Noon - 2:00pm ART\n2:00pm - 
 4:00pm Meeting\n4:00pm - 6:00pm 
 ART\n\n\nFacebook:\nhttp://www.facebook.com/pages/Listen-UP-Mayors/480905948741853?ref=bookmarks\n\nInfo: 
 bob71947 [at] aol.com\n\n\n 
 https://www.indybay.org/newsitems/2015/06/12/18773383.php
SUMMARY:"Listen Up, Mayors" ~ Humanity First ~
LOCATION:UNITE / HERE - Local 2\n215 Golden Gate Ave.\n(nr. Civic Center BART)\nSan 
 Francisco, CA
URL:https://www.indybay.org/newsitems/2015/06/12/18773383.php
DTSTART:20150614T190000Z
DTEND:20150615T010000Z
END:VEVENT
END:VCALENDAR
