BEGIN:VCALENDAR
VERSION:2.0
X-WR-CALNAME:www.indybay.org
PRODID:-//indybay/ical// v1.0//EN
BEGIN:VEVENT
UID:Indybay-18773061
SEQUENCE:18895288
CREATED:20150603T071100Z
DESCRIPTION:Twenty-six original silk screen poster prints created by young people in 
 social protest movements\n\nExhibit opens: June 5th, SubZero\nExhibit ends: 
 August 7th, SoFA First Friday\n\nRegular hours:  Mon-Fri 3pm-9pm\nSpecial 
 hours:  June 5-6, 7pm-11pm\n                          August 7, 
 7pm-11pm\n\nSharat G. Lin, who collected the posters between 1969 and 1972, 
 will discuss the posters on Friday, June 5 at 8:30 pm.\n\nFree and open to 
 the public\nWheelchair accessible\n\nSponsored by the LGBTQ Youth Space, 
 San Jose Peace and Justice Center, and U.S. Social Forum - San Jose\n 
 https://www.indybay.org/newsitems/2015/06/03/18773061.php
SUMMARY:The Art of Protest 1960s-1970s
LOCATION:LGBTQ Youth Space\n452 South First Street\nSan Jose, CA  95113
URL:https://www.indybay.org/newsitems/2015/06/03/18773061.php
DTSTART:20150606T020000Z
DTEND:20150606T060000Z
END:VEVENT
END:VCALENDAR
