BEGIN:VCALENDAR
VERSION:2.0
X-WR-CALNAME:www.indybay.org
PRODID:-//indybay/ical// v1.0//EN
BEGIN:VEVENT
UID:Indybay-18772499
SEQUENCE:18894319
CREATED:20150520T182800Z
DESCRIPTION:(Actuaciones en Español ¡Invitados!)\n\nOn Saturday, June 6, the ANSWER 
 Coalition will be hosting LYRICAL REVOLT, a political-artistic space to 
 express oneself through any vocal medium. Join us as we use the power of 
 our words and art to battle the injustices that face the world today. This 
 open mic is dedicated to the residents of Baltimore and the Palestinians 
 who are struggling and \nresisting the brutality of the oppressor.\n\nThe 
 program will start at 7pm sharp, performer sign ups will start at 6pm. 
 \n$3-5 donation requested (no one turned away due to lack of 
 funds)\n\nWheelchair accessible. All are welcome.\n------------------\n\nEl 
 sábado, 6 de junio, la Coalición ANSWER estará patrocinando a LYRICAL 
 REVOLT, un espacio político-artístico para expresarse con cualquier medio 
 lírico. Únase con nosotros mientras usamos nuestras palabras y arte para 
 luchar en contra de las injusticias que enfrentan al mundo hoy. Este 
 micrófono abierto se dedica a los residentes de Baltimore y los Palestinos 
 que están luchando y resistiendo la brutalidad del opresor.\n\nEl programa 
 comienza a las 7pm y inscripciones a las 6pm. \nSe pide donación de $3-5 
 (Nadie sera rechazado por falta de fondos)\n\nAccesible para Sillas de 
 Ruedas. Todos bienvenidos.\n\nFacebook Event 
 https://www.facebook.com/events/1555277811361220/\n 
 https://www.indybay.org/newsitems/2015/05/20/18772499.php
SUMMARY:ANSWER Coalition Presents: Lyrical Revolt - It Is Right to Rebel!
LOCATION:ANSWER Coalition Office, 2969 Mission St. near 26th St.\n24th St. BART; 
 #14, 49 MUNI
URL:https://www.indybay.org/newsitems/2015/05/20/18772499.php
DTSTART:20150607T020000Z
DTEND:20150607T050000Z
END:VEVENT
END:VCALENDAR
