BEGIN:VCALENDAR
VERSION:2.0
X-WR-CALNAME:www.indybay.org
PRODID:-//indybay/ical// v1.0//EN
BEGIN:VEVENT
UID:Indybay-18772287
SEQUENCE:18894001
CREATED:20150513T203200Z
DESCRIPTION:  Featuring dramatic archival footage and narration by Alice \n  Walker, a 
 wealth of interviews with participants and the\n  many voices of KPFA 
 programing through the years KPFA\n  On The Air will give viewers an 
 complete insight on the\n   history of the nation's first listener 
 sponsored station.\n\n 
 https://www.indybay.org/newsitems/2015/05/13/18772287.php
SUMMARY:Film Screening: KPFA on the Air
LOCATION:UU CENTER 1187 FRANKLIN/GEARY SAN FRANCISCO
URL:https://www.indybay.org/newsitems/2015/05/13/18772287.php
DTSTART:20150516T013000Z
DTEND:20150516T033000Z
END:VEVENT
END:VCALENDAR
