BEGIN:VCALENDAR
VERSION:2.0
X-WR-CALNAME:www.indybay.org
PRODID:-//indybay/ical// v1.0//EN
BEGIN:VEVENT
UID:Indybay-18772158
SEQUENCE:18893788
CREATED:20150511T012600Z
DESCRIPTION:Senior and Disability Action General Meeting\nImpact of City & State 
 Budgets on Seniors & People w. Disabilities\nThursday, May 14, 10 AM 
 \nStarr King Room \nUnitarian Center, 1187 Franklin (at Geary) \n# 38 bus 
 (not 38L)\nMap of location: http://tinyurl.com/cpxelmb \n\nDoors open at 9 
 AM\nLunch served at 12 noon for $2 (over age 65)\n\nSenior and Disability 
 Action is a new merger of Senior Action Network  (SAN) and Planning for 
 Elders in the Central City (PECC).   We are a citywide federation of senior 
 organizations working to improve the lives of San Francisco's seniors, 
 people with disabilities,  and all our city's residents. We are an umbrella 
 coalition of over 150 member organizations representing over 30,000 seniors 
 and persons with disabilities. In addition to healthcare and housing, SAN 
 has been active in pedestrian safety and public transportation. \n\nContact 
 at 415-546-1333 or info.sdaction.org\n\nMore about Senior and Disability 
 Action at: \nhttp://www.sdaction.org/  and 
 \nhttp://www.sdaction.org/programs.html \n 
 https://www.indybay.org/newsitems/2015/05/10/18772158.php
SUMMARY:Senior and Disability Action General Meeting
LOCATION:Starr King Room \nUnitarian Center, 1187 Franklin (at Geary) \n# 38 bus 
 (not 38L)\nMap of location: http://tinyurl.com/cpxelmb
URL:https://www.indybay.org/newsitems/2015/05/10/18772158.php
DTSTART:20150514T170000Z
DTEND:20150514T190000Z
END:VEVENT
END:VCALENDAR
