BEGIN:VCALENDAR
VERSION:2.0
X-WR-CALNAME:www.indybay.org
PRODID:-//indybay/ical// v1.0//EN
BEGIN:VEVENT
UID:Indybay-18771933
SEQUENCE:18893393
CREATED:20150505T201100Z
DESCRIPTION:"The Art of Protest at 50"\n\nA conversation with Sharat G. Lin, research 
 fellow and past president of the San Jose Peace and Justice Center, and 
 collector of the posters on display.\n\nThe Art of Protest is a collection 
 of 26 original silk screen poster prints made by students in the late 1960s 
 and early 1970s.  They document social protest movements at UCSC and other 
 campuses.\n\nThe Art of Protest is on display in the Senior Common Room at 
 Cowell College from April 20 until June 5, 2015.  Hours are by appointment 
 from the Cowell College Office when no classes are being held in the 
 room.\n\nFree and open to the public.\n\nSponsored by Cowell College and 
 the San Jose Peace and Justice Center.\n 
 https://www.indybay.org/newsitems/2015/05/05/18771933.php
SUMMARY:The Art of Protest at 50
LOCATION:Senior Common Room (above college office)\nCowell College\nUniversity of 
 California\nSanta Cruz, CA 95064
URL:https://www.indybay.org/newsitems/2015/05/05/18771933.php
DTSTART:20150507T193000Z
DTEND:20150507T210000Z
END:VEVENT
END:VCALENDAR
