BEGIN:VCALENDAR
VERSION:2.0
X-WR-CALNAME:www.indybay.org
PRODID:-//indybay/ical// v1.0//EN
BEGIN:VEVENT
UID:Indybay-18771715
SEQUENCE:18893050
CREATED:20150430T225700Z
DESCRIPTION:This is the 3rd annual Empty the Tanks demonstration. This is a day for 
 everyone around the world to stand up against marine mammal captivity. The 
 abuse and exploitation of these sentient beings has no place in the 21st 
 century. \n\nOn June 6th, protests and educational events will be held all 
 over world in front of marine mammal parks and aquariums. If the park is 
 exploiting marine mammals for entertainment and profit then we want people 
 out front creating noise and awareness. The only way to close their doors 
 for good is to get the general public to stop buying tickets. We need your 
 voice, your posters, and your dedication to seeing an end to the captivity 
 industry. \n\nPlease join us for a non-violent peaceful demonstration on 
 June 6th at Six Flags Discovery Kingdom 1001 Fairgrounds Drive, Vallejo, 
 California 94589. Stand with us to tell the captivity industry that enough 
 is enough! The show is over. It's time to Empty the Tanks!!\n 
 https://www.indybay.org/newsitems/2015/04/30/18771715.php
SUMMARY:Empty The Tanks Demonstration ~ Six Flags Discovery Kingdom
LOCATION:Six Flags Discovery Kingdom \n1001 Fairgrounds Drive, Vallejo, California 
 94589
URL:https://www.indybay.org/newsitems/2015/04/30/18771715.php
DTSTART:20150606T170000Z
DTEND:20150606T200000Z
END:VEVENT
END:VCALENDAR
