BEGIN:VCALENDAR
VERSION:2.0
X-WR-CALNAME:www.indybay.org
PRODID:-//indybay/ical// v1.0//EN
BEGIN:VEVENT
UID:Indybay-18771675
SEQUENCE:18892985
CREATED:20150429T231800Z
DESCRIPTION:Five Bands Plus 3 Spoken Word Artists in a benefit for family of local 
 resident Chris Whitmire who we lost on April 2nd. \n\nJury Room May 9th 
 7:30 to midnight $10 donation+Raffle 21&over only \n\nThe bands are: 
 Chelsea Rose & Keith Mueller (Bite, SF), The Highway Murderers (Santa 
 Cruz), Jennifer Blowdryer & Jimi Crucifix (NY),Psychos in Love (Monterey), 
 Sarah Levy (Pity Party, Stockton), readings by William Taylor Jr., 
 Cassandra and Christopher Robin. \n\nPlease come out and support his 
 family. Hope to see you there.  \n 
 https://www.indybay.org/newsitems/2015/04/29/18771675.php
SUMMARY:Music & Spoken Word Event/Benefit for Family of Chris Whitmire
LOCATION:Jury Room, 712 Ocean St, Santa Cruz
URL:https://www.indybay.org/newsitems/2015/04/29/18771675.php
DTSTART:20150510T023000Z
DTEND:20150510T070000Z
END:VEVENT
END:VCALENDAR
