BEGIN:VCALENDAR
VERSION:2.0
X-WR-CALNAME:www.indybay.org
PRODID:-//indybay/ical// v1.0//EN
BEGIN:VEVENT
UID:Indybay-18771352
SEQUENCE:18892497
CREATED:20150421T070000Z
DESCRIPTION:Gather at 6 pm for interfaith vigil.  March at 6:30 pm. 'March through the 
 Mission.  Join families of the fallen at mission police station.  Gathering 
 at church at 15th/Julian.\n 
 https://www.indybay.org/newsitems/2015/04/21/18771352.php
SUMMARY:Vigil and March for Amilcar Perez-Lopez
LOCATION:Gather at 6 pm for interfaith vigil at Folsom between 24th and 25th in San 
 Francisco.  March at 6:30 pm.
URL:https://www.indybay.org/newsitems/2015/04/21/18771352.php
DTSTART:20150425T010000Z
DTEND:20150425T030000Z
END:VEVENT
END:VCALENDAR
