BEGIN:VCALENDAR
VERSION:2.0
X-WR-CALNAME:www.indybay.org
PRODID:-//indybay/ical// v1.0//EN
BEGIN:VEVENT
UID:Indybay-18771077
SEQUENCE:18892086
CREATED:20150414T181900Z
DESCRIPTION:Commemorate the 30th anniversary of the horrific police bombing of the MOVE 
 Organization in Philadelphia, by coming out to see the new film, 'Let the 
 Fires Burn.' The film tells the story of the police attack on the group's 
 office which burned an entire neighborhood. The bombing was the culmination 
 of an ongoing campaign against the radical Black ecological group. \n\nThis 
 event is part of a build up to the 'No More Locked Doors' Conference at 
 Qilombo in Oakland on Saturday, May 13th. 
 \nwww.nomorelockeddoors.org\nnomorelockeddoors@riseup.net\n 
 https://www.indybay.org/newsitems/2015/04/14/18771077.php
SUMMARY:Film Showing of "Let the Fires Burn" on 30th Anniversary of MOVE Bombing
LOCATION:OMNI Commons, 4799 Shattuck, Oakland, CA
URL:https://www.indybay.org/newsitems/2015/04/14/18771077.php
DTSTART:20150514T020000Z
DTEND:20150514T050000Z
END:VEVENT
END:VCALENDAR
