BEGIN:VCALENDAR
VERSION:2.0
X-WR-CALNAME:www.indybay.org
PRODID:-//indybay/ical// v1.0//EN
BEGIN:VEVENT
UID:Indybay-18770936
SEQUENCE:18891907
CREATED:20150409T132700Z
DESCRIPTION:Francis Dupuis-Deri from Montreal, author of Who's Afraid of the Black 
 Blocs?: Anarchy in Action around the World; and John Clark, from New 
 Orleans, editor, translator, and introducer of Anarchy, Geography, 
 Modernity: the writings of Elisée Reclus. (both published by PM Press) 
 will present a talk. In case you didn't know, Elisée Reclus (1830–1905) 
 was a renowned French anarchist geographer. He produced his 19-volume 
 masterwork La Nouvelle Géographie universelle, la terre et les hommes 
 ("Universal Geography"), over a period of nearly 20 years (1875–1894). In 
 1892 he was awarded the prestigious Gold Medal of the Paris Geographical 
 Society for this work, despite having been banished from France because of 
 his political activism. Dupuis-Deri and Clark's books will be available for 
 purchase at the event, free and open to the public. You can make a safe and 
 tax-deductible donation by PayPal from our website: 
 http://www.marxistschool.org. \n 
 https://www.indybay.org/newsitems/2015/04/09/18770936.php
SUMMARY:Anarchy Past and Present talk
LOCATION:Sierra 2 Center, 2791 24th Street, Garden Room, (between Castro Way and 4th 
 Avenue) Sacramento, CA 95818. 
URL:https://www.indybay.org/newsitems/2015/04/09/18770936.php
DTSTART:20150424T020000Z
DTEND:20150424T040000Z
END:VEVENT
END:VCALENDAR
