BEGIN:VCALENDAR
VERSION:2.0
X-WR-CALNAME:www.indybay.org
PRODID:-//indybay/ical// v1.0//EN
BEGIN:VEVENT
UID:Indybay-18770804
SEQUENCE:18891598
CREATED:20150406T064400Z
DESCRIPTION:\n\n\n\nEarth Day is Everyday\n\n\nFilm evenings begin with optional 
 potluck refreshments & social hour at 6:30 pm,\nfollowed by the film at 
 7:30 pm, followed by optional discussion after the film.\n\n\nCelebrating 
 Earth Day, we are proud to present:\n\n\n\nFIRST LIFE:  ARRIVAL\n\nby David 
 Attenborough\n\n\n\nFor a description of this film, see the website shown 
 below.\n\n\n\nHumanist Hall is wheelchair accessible around the corner at  
 411  28th  Street\n\n\n$5 donations are requested.\n\n\n\n\n 
 https://www.indybay.org/newsitems/2015/04/05/18770804.php
SUMMARY:First Life: Arrival
LOCATION:Humanist Hall\n390  27th  Street\nuptown Oakland, between Telegraph and 
 Broadway\nhttp://www.HumanistHall.org
URL:https://www.indybay.org/newsitems/2015/04/05/18770804.php
DTSTART:20150423T023000Z
DTEND:20150423T043000Z
END:VEVENT
END:VCALENDAR
