BEGIN:VCALENDAR
VERSION:2.0
X-WR-CALNAME:www.indybay.org
PRODID:-//indybay/ical// v1.0//EN
BEGIN:VEVENT
UID:Indybay-18770598
SEQUENCE:18891255
CREATED:20150330T025900Z
DESCRIPTION:                                                                            
                     \n7 eclectic East Bay  punk bands: Baja Sociedad, Punk 
 Funk Mob, Sarchasm, Chuckleberries, Bankrupt District, Public Safety, 
 Rahman Jamaal (Street Music Poetry} \nwith some livestreaming on kpfa.org 
 and You Tube posting\nSliding scale, $8--$20 with a $2 Gilman annual 
 membership\n\n https://www.indybay.org/newsitems/2015/03/29/18770598.php
SUMMARY:A benefit concert for KPFA free speech radio-media at 924 Gilman
LOCATION:924 Gilman Street in Berkeley  \nan alternative music collective
URL:https://www.indybay.org/newsitems/2015/03/29/18770598.php
DTSTART:20150425T020000Z
DTEND:20150425T060000Z
END:VEVENT
END:VCALENDAR
