BEGIN:VCALENDAR
VERSION:2.0
X-WR-CALNAME:www.indybay.org
PRODID:-//indybay/ical// v1.0//EN
BEGIN:VEVENT
UID:Indybay-18770548
SEQUENCE:18891308
CREATED:20150328T155000Z
DESCRIPTION:Internal displace of our First Nation family on this land and slavery 
 throughout the State of California remains an open secret, as we celebrate 
 the end of the US Civil War.  Rev. Thomas Starr King, Moses Rodgers and 
 many others helped finance the US Sanitary Commission, while helping 
 California extend freedom to those enslaved in the Golden State.  Our 
 Sesquicentennial Freedom Celebrations continue in partnership with "Bells 
 Across the Land" sharing our unique contribution to the forward flow of 
 humanity.     \n\n\nCome experience a growing acknowledgement of the 
 significance of our Sesquicentennial Freedom Celebration.\n  \n"Bells 
 Across the Land" is a nationwide event taking place on April 9.  Noon, at 
 the California State Capitol we will ring our “Liberty Bell” and share 
 our unique contribution to the forward flow of humanity.  \n\nCalifornia 
 Black Agriculture Working Group leads the commemoration the 150th 
 anniversary of national events from the Appomattox Court House. \n \nOur 
 unique vibrational frequency will reverberate throughout the land as the 
 country marks the symbolic end of the Civil War.\n\nTogether, we will 
 highlight our pivotal journey towards freedom in the State of California, 
 and share our ongoing contributions to the forward flow of humanity.\n 
 https://www.indybay.org/newsitems/2015/03/28/18770548.php
SUMMARY:"Bells Across the Land" ~ California State Capitol
LOCATION:California State Capitol
URL:https://www.indybay.org/newsitems/2015/03/28/18770548.php
DTSTART:20150409T190000Z
DTEND:20150409T210000Z
END:VEVENT
END:VCALENDAR
