BEGIN:VCALENDAR
VERSION:2.0
X-WR-CALNAME:www.indybay.org
PRODID:-//indybay/ical// v1.0//EN
BEGIN:VEVENT
UID:Indybay-18770037
SEQUENCE:18890380
CREATED:20150317T042000Z
DESCRIPTION:Join BFUU in celebrating 100 years of life for Dorothy Burnham. Dorothy has 
 promoted peace, women's and civil rights. She and her daughter, journalist 
 and activist Linda Burnham, continue to make positive change in the social 
 justice arena.\nSponsored by the BFUU Social Justice 
 Committee.\n\nSuggested donation $5-10  No one turned away for lack of 
 funds\nWheelchair accessible.\n\nFor occasional email notices of 
 peace/eco/social justice alerts and related events at BFUU, send any email 
 to:\nbfuusjev-subscribe@lists.riseup.net\n\nFor weekly notices of BFUU 
 services etc. go to:\nwww.bfuu.org/signup.html\n\n 
 https://www.indybay.org/newsitems/2015/03/16/18770037.php
SUMMARY:Meet and Celebrate the Life of Centenarian Activist Dorothy Burnham
LOCATION:Berkeley Fellowship of Unitarian Universalists’ Hall\n1924 Bonita 
 (@Cedar) , Berkeley   www.bfuu.org\n
URL:https://www.indybay.org/newsitems/2015/03/16/18770037.php
DTSTART:20150320T013000Z
DTEND:20150320T040000Z
END:VEVENT
END:VCALENDAR
