BEGIN:VCALENDAR
VERSION:2.0
X-WR-CALNAME:www.indybay.org
PRODID:-//indybay/ical// v1.0//EN
BEGIN:VEVENT
UID:Indybay-18769096
SEQUENCE:18888931
CREATED:20150225T001400Z
DESCRIPTION:A cabaret style evening that spotlights 10-minute or less performance 
 pieces, experiments, and works in progress by pre-selected queer solo 
 artists, groups, or troupes, this month’s episode of The News is guest 
 curated by Periwinkle Cinema and will feature short movies with live 
 soundtracks performed by Annah Anti-Palindrome, Aja Archuleta, Beast Nest 
 (Sharmi Basu), Lisa Ganser, Peter Max Lawrence with Chainsaw Jane, Sofia 
 Moreno, and Julie Thi Underhill.\n\nFor more information about DIS/PLAY and 
 the exhibiting and performing artists, visit somarts.org/displaycloses.\n 
 https://www.indybay.org/newsitems/2015/02/24/18769096.php
SUMMARY:DIS/PLAY Closing Reception w/Film, Pizza & Poetry
LOCATION:SOMArts Cultural Center\n934 Brannan St. (@ 8th)
URL:https://www.indybay.org/newsitems/2015/02/24/18769096.php
DTSTART:20150424T010000Z
DTEND:20150424T040000Z
END:VEVENT
END:VCALENDAR
