BEGIN:VCALENDAR
VERSION:2.0
X-WR-CALNAME:www.indybay.org
PRODID:-//indybay/ical// v1.0//EN
BEGIN:VEVENT
UID:Indybay-18768851
SEQUENCE:18888551
CREATED:20150221T000100Z
DESCRIPTION:HealthCare Action Team (HAT) Meeting \nWednesday, March 11, 11 AM 
 \nBayanihan Center, 1010 Mission \n(at 6th St., #14 bus \nmap at 
 http://tinyurl.com/7e4bbxn) \n\n\nHealthCare Action Team (HAT) meeting. HAT 
 is a coalition of seniors, people with disabilities, caregivers and 
 community agencies working for increases of homecare services and 
 affordable, supportive housing and improvements to discharge 
 planning.\n\nWe use theater, song, storytelling and other popular education 
 and participatory research models to raise awareness of the growing need 
 for quality services and housing and the important role they plan in our 
 community.\n\nRead more at http://tinyurl.com/6rwml33 \n 
 https://www.indybay.org/newsitems/2015/02/20/18768851.php
SUMMARY:HealthCare Action Team (HAT) Meeting
LOCATION:Bayanihan Center, 1010 Mission \n(at 6th St., #14 bus)\nmap at 
 http://tinyurl.com/7e4bbxn
URL:https://www.indybay.org/newsitems/2015/02/20/18768851.php
DTSTART:20150311T180000Z
DTEND:20150311T200000Z
END:VEVENT
END:VCALENDAR
