BEGIN:VCALENDAR
VERSION:2.0
X-WR-CALNAME:www.indybay.org
PRODID:-//indybay/ical// v1.0//EN
BEGIN:VEVENT
UID:Indybay-18767844
SEQUENCE:18886882
CREATED:20150130T194300Z
DESCRIPTION:\nWashington Post, August 29, 2012\nSociologist Michael Kimmel has spent 
 hundreds of hours in the company of America’s angry white men including 
 white supremacists to men's rights activists to young students.  Downward 
 mobility, increased racial and gender equality, and a tenacious clinging to 
 an ideology of masculinity has left many men feeling betrayed and 
 bewildered. Raised to expect unparalleled social and economic privileges, 
 white men are suffering today from what Kimmel calls "aggrieved 
 entitlement".  \n\n\nShoppers examine handguns on display for sale at The 
 Nation's Gun Show held in the Dulles Expo Center in Chantilly, Virginia, 
 USA, 28 July 2012.  EPA/JIM LO SCALZO\nMany white men believed that the 
 benefits were their due have been snatched away from them.  Michael 
 believes that the school shootings perpetrated by middle-class white male 
 students, the men’s-rights movement, white supremacists, the 
 fathers’-rights groups, and more are due to aggrieved entitlement.  The 
 choice for angry white men is not whether or not they can stem the tide of 
 history because they cannot. Micheal is interviewed by Hanna Rosin, the 
 author of "The End of Men".\nSource: C-Span: After Words with Michael 
 Kimmel\n\n\n\n\nAutism Linked to Pesticide Exposure\n\nWomen's exposure to 
 agricultural pesticides during pregnancy appears to sharply increase the 
 risk for developmental delays and autism in their children, according to a 
 paper published in Environmental Health Perspectives. Irva Hertz-Picciotto 
 is a senior author of the study and Professor of Epidemiology at the MIND 
 Institute at UC Davis.  Irva discusses the study and the dangers of 
 pesticides with Steve Curwood.\nSource: living on earth: Autism Linked to 
 Pesticide Exposure\n\n\nDownload or Play Angry White Men Part 1Download or 
 Play Angry White Men Part 2Download or Play Angry White Men Part 3Download 
 or Play Autism Linked To Pesticides\n\nMusic includes Compassionate 
 Conservatives - To All The Troops, Bruce Cockburn - Waiting For A Miracle, 
 Ani DiFranco - Millenium Theater, Everton Blender - Bush and Saddam, 
 Capitol Steps - Oh What a Beautiful Mormon, FDR 1-20-1937, Capitol Steps - 
 If I Tax a Rich Man, The Compassionate Conservatives - Frat Boy, David 
 Rovics - Ballad of a Cluster Bomb, Capitol Steps - Ronald The Red-Faced 
 Reagan, Pearl Jam - Masters Of War, Capitol Steps - Drop My Baby One More 
 Time, The Slackers - Propaganda, Frank Sinatra - Mack the Knife, His Hot 
 Five / Louis Armstrong - Tight Like This, George Carlin - Special 
 Dispensation; Heaven Hell Purgatory And Limbo, Manuel Barrueco - Rodeo\n\n 
 https://www.indybay.org/newsitems/2015/01/30/18767844.php
SUMMARY:Angry White Men
LOCATION:Stream or download at http://greatspeechesandinterviews.blogspot.com/ 
 \n\nBroadcast at Access Sacramento, Sundays 6-8pm PDT at KUBU 96.5 FM and 
 at http://www.live365.com/stations/accesssacramento?site=pro\n
URL:https://www.indybay.org/newsitems/2015/01/30/18767844.php
DTSTART:20150202T020000Z
DTEND:20150202T040000Z
END:VEVENT
END:VCALENDAR
