BEGIN:VCALENDAR
VERSION:2.0
X-WR-CALNAME:www.indybay.org
PRODID:-//indybay/ical// v1.0//EN
BEGIN:VEVENT
UID:Indybay-18767370
SEQUENCE:18886177
CREATED:20150122T214600Z
DESCRIPTION:You, your family and friends are invited to learn about the proposed SANTA 
 CRUZ REDWOODS NATIONAL MONUMENT\nat this CAMPAIGN KICK-OFF EVENT featuring 
 Congresswoman ANNA ESHOO and former Secretary of the Interior BRUCE BABBITT 
 at Kaiser Permanente Arena in Santa Cruz.\n\nRepresentatives of the Bureau 
 of Land Management, other California communities that have recently 
 established National Monuments, and members of the local campaign Citizens 
 Advisory Committee will also be speaking.\n\nSanta Cruz has the opportunity 
 to have President Obama and Congress designate 5800 acres of our Coast 
 Dairies property - North of Wilder Ranch State Park, and South of Swanton, 
 into a permanently protected, and publicly accessible NATIONAL MONUMENT. 
 Come learn about the property, the process and how we can work together to 
 convince our national leaders to designate Coast Dairies as the SANTA CRUZ 
 REDWOODS NATIONAL MONUMENT. This opportunity, has been called a "once in a 
 lifetime" chance to protect our watershed, ecosystem and gateway to the 
 redwood forests of the Santa Cruz Mountains.  \n\nThis event is free and 
 open to the public. Seating is limited so register today: 
 http://www.eventbrite.com/e/santa-cruz-redwoods-national-monument-campaign-kick-off-tickets-15051534545\n\nDATE/TIME: 
 Thursday, February 12, 2015 - 6:00PM TO 8:00PM\nLOCATION: Kaiser Permanente 
 Arena, 140 Front Street, Santa Cruz\nPARKING: Metered parking is available 
 on-street, and in pay lots throughout downtown Santa Cruz.\n\nFor further 
 information about the Monument Proposal, visit our website: 
 http://santacruzredwoods.org\n\nYes, I support Santa Cruz Redwoods National 
 Monument: (sign the petition) 
 https://docs.google.com/forms/d/110cNEEC9Sa5HBZSJBMXMI7AZ4aWKMwCUczDVExQVcPE/viewform\n\nLike 
 us on Facebook: 
 https://www.facebook.com/pages/Santa-Cruz-Redwoods-National-Monument-Campaign/371080979732175\n 
 https://www.indybay.org/newsitems/2015/01/22/18767370.php
SUMMARY:Santa Cruz Redwoods National Monument Campaign Kick-off
LOCATION:Kaiser Permanente Arena\n140 Front Street \nSanta Cruz, CA 95060
URL:https://www.indybay.org/newsitems/2015/01/22/18767370.php
DTSTART:20150213T020000Z
DTEND:20150213T040000Z
END:VEVENT
END:VCALENDAR
