BEGIN:VCALENDAR
VERSION:2.0
X-WR-CALNAME:www.indybay.org
PRODID:-//indybay/ical// v1.0//EN
BEGIN:VEVENT
UID:Indybay-18767008
SEQUENCE:18885669
CREATED:20150117T002300Z
DESCRIPTION:SF Ecumenical Peace Partners invites you to a Sunday evening gathering 
 focused on the Palestinian crisis, one of the most pressing human rights 
 issues for communities of faith today. \n\n\nPresenters: \n\nNorCal Friends 
 of Sabeel\nJewish Voice for Peace – Bay Area \n\nProfessor Stephen Zunes, 
 Professor of Politics and International Studies at the University of San 
 Francisco, associate editor of Peace Review, and one of the country’s 
 leading scholars of U.S. Middle East policy and of strategic nonviolent 
 action.\n\nFather Bernard Poggi, Catholic priest of the Latin Patriarchate 
 of Jerusalem (the Roman Catholic diocese of the Holy Land). Father Poggi 
 was recently ordained and assigned to St. Thomas More Church at the service 
 of the Arab-Catholic community in Northern California.\n\nCo-sponsored by 
 NorCal Friends of Sabeel, Jewish Voice for Peace Bay Area, Keep Hope Alive 
 (Presbyterian), Peace Not Walls (Lutheran), Cal-Nevada Israel/Palestine 
 Task-Force (United Methodist)\n\n 
 https://www.indybay.org/newsitems/2015/01/16/18767008.php
SUMMARY:Ecumenical Response for Peace & Justice in the Holy Land
LOCATION:St. John's Presbyterian Church\n25 Lake Street, San Francisco\nParking at 
 St. Anne's - 300 Lake St. \n                                                
         \n
URL:https://www.indybay.org/newsitems/2015/01/16/18767008.php
DTSTART:20150126T003000Z
DTEND:20150126T020000Z
END:VEVENT
END:VCALENDAR
