BEGIN:VCALENDAR
VERSION:2.0
X-WR-CALNAME:www.indybay.org
PRODID:-//indybay/ical// v1.0//EN
BEGIN:VEVENT
UID:Indybay-18766954
SEQUENCE:18886412
CREATED:20150116T041100Z
DESCRIPTION:Attend the next Board of Supervisors Hearing on January 27th, and voice 
 your concerns over the proposed changes to medical cannabis cultivation 
 laws in Santa Cruz County! \n\nThe Santa Cruz County Board of Supervisors 
 will vote on changes to the Medical Cannabis Cultivation Ordinance: January 
 27th 1:00pm 701 Ocean Street, Room 525 Santa Cruz, CA \n\nPlease make sure 
 to be at this event on time and ready to speak clearly and politely on 
 behalf of medial cannabis patients! Alert your local community of this 
 upcoming vote! \n\nEach person will be granted 2 minutes to speak their 
 views on the proposal by the County to disallow collective outdoor 
 cultivation in most rural areas of the county, and disallow collective 
 indoor cultivation in Commercial areas by anyone who does not operate one 
 or more dispensaries. \n\nWe encourage everyone to also voice their 
 concerns in writing. Send all letters relating to the Supervisors proposal 
 to the Clerk of the Board at 701 Ocean Street, Room 500. Please include a 
 cover sheet indicating that your letter should be included into the 
 official record relating to the January 27th vote on the Medical Cannabis 
 Cultivation Ordinance. \n\nRead more 
 at:\nhttp://www.cannabisadvocatesalliance.org/ \n\nCannabis Advocates 
 Alliance Will Meet: \n\nWednesday, January 28th, 7-9pm Louden Nelson, 301 
 Center Street, Santa Cruz \n\nAt this meeting, CAA members will discuss the 
 supervisors' vote and decide appropriate actions in response.\n 
 https://www.indybay.org/newsitems/2015/01/15/18766954.php
SUMMARY:Medical Cannabis Cultivation Ordinance at Board of Supervisors meeting
LOCATION:County Building (next to the Courthouse)\n701 Ocean Street, Room 525 Santa 
 Cruz, CA
URL:https://www.indybay.org/newsitems/2015/01/15/18766954.php
DTSTART:20150127T210000Z
DTEND:20150128T000000Z
END:VEVENT
END:VCALENDAR
