BEGIN:VCALENDAR
VERSION:2.0
X-WR-CALNAME:www.indybay.org
PRODID:-//indybay/ical// v1.0//EN
BEGIN:VEVENT
UID:Indybay-18766561
SEQUENCE:18884916
CREATED:20150108T220900Z
DESCRIPTION:KPFA Radio 94.1FM presents:\n\n   Two of our greatest activist minds 
 meet!\n   CORNEL WEST portrays the true REV. MARTIN LUTHER KING, JR.  \n   
 "The Radical King"\n \n   Hosted by Davey D 
 \n............................................................................................\nSaturday, 
 January 31, 2015, 7:30 pm\nFirst Congregational Church, 2501 Harrison 
 Street, Oakland \n$12 advance tickets: 
 http://www.brownpapertickets.com/event/1036518  :: 800-838-3006  or Marcus 
 Books, Pegasus (3 sites)   Moe's, Walden Pond, Diesel a Bookstore, Mrs. 
 Dalloway's Books   SF: Modern Times, $15 door, KPFA benefit   
 www.kpfa.org/events 
 \n............................................................................................\n\nAs 
 racial tension again flares across the country, Dr. Cornel West provides a 
 clear portrait of King as a radical visionary. While King is currently 
 recognized as a major leader in  America's civil rights movement, a  
 transcendent orator and an insistent proponent of nonviolence, few realize 
 how truly radical he was. Dr. Cornel West brilliantly establishes King's 
 revolutionary Christian vision, seeing him as a passionate democratic 
 socialist, underscoring his profound identification with the poor, his 
 unapologetic opposition to the Vietnam War, to all war, and his crusade 
 against global imperialism. \n\nDr. Cornel West, unarguably one of 
 America's most gifted and provocative public intellectuals, has been 
 profoundly influenced by Dr. King. Currently he is a professor of 
 philosophy and Christian practice at Union Theological Seminary in New York 
 City. He is the author of many books as well as a frequent guest on 
 contemporary forums. \n\nDavey D is the Host of Hard Knock Radio (airing on 
 KPFA 94.1FM weekdays at  4pm). He is also Adjunct  Professor in the 
 Afrostudies Dept. at S.F.State University.\n 
 https://www.indybay.org/newsitems/2015/01/08/18766561.php
SUMMARY:Cornel West: The Radical King
LOCATION:First Congregational Church of Oakland\n2501 Harrison St\nOakland, CA 
 94612\n510-444-8511\nhttp://firstoakland.org
URL:https://www.indybay.org/newsitems/2015/01/08/18766561.php
DTSTART:20150201T033000Z
DTEND:20150201T053000Z
END:VEVENT
END:VCALENDAR
