BEGIN:VCALENDAR
VERSION:2.0
X-WR-CALNAME:www.indybay.org
PRODID:-//indybay/ical// v1.0//EN
BEGIN:VEVENT
UID:Indybay-18766521
SEQUENCE:18884917
CREATED:20150107T125500Z
DESCRIPTION:Director and producer Sam Mayfield will show her film, Wisconsin Rising 
 (Green Valley Media, and E.W. Stetson).  A group discussion will end Sam's 
 screening, and copies of Wisconsin Rising will be available. Our talks are 
 free and open to the public. If you wish to support the Marxist School’s 
 endeavors, you can make a safe and tax-deductible donation by PayPal from 
 our website: www.marxistschool.org. \n 
 https://www.indybay.org/newsitems/2015/01/07/18766521.php
SUMMARY:Wisconsin Rising screening
LOCATION:Sierra 2 Center, 2791 24th Street, Garden Room, (between Castro Way and 4th 
 Avenue) Sacramento, CA 95818. 
URL:https://www.indybay.org/newsitems/2015/01/07/18766521.php
DTSTART:20150116T030000Z
DTEND:20150116T050000Z
END:VEVENT
END:VCALENDAR
