BEGIN:VCALENDAR
VERSION:2.0
X-WR-CALNAME:www.indybay.org
PRODID:-//indybay/ical// v1.0//EN
BEGIN:VEVENT
UID:Indybay-18765055
SEQUENCE:18882820
CREATED:20141205T052600Z
DESCRIPTION:The Third Annual East Bay Anarchist Conversation & Book Event with East Bay 
 Anarchist Bookfair\n\nDate: Sunday, December 7th, 10am-8pm\nLocation: 
 Humanist Hall, 390 27th St., Oakland, CA 
 94612\nhttp://eastbayanarchist.com/the-second-annual-east-bay-anarchist-conversation-book-event/\n\nIn 
 the city of Oakland, on Ohlone land, in December of 2014 we will host the 
 third annual East Bay Anarchist Bookfair: Conversations & Books where we 
 will present the projects and people who have comprised the East Bay 
 Anarchist community for decades. Our website is at 
 http://eastbayanarchist.com\n\nThis year we are partnering with The East 
 Bay Alternative Book & Zine Fest to create a full weekend of books and 
 literature. The East Bay Zine Fest is Saturday Dec 6 from 10-5 at Berkeley 
 City College, 2050 Center Street in Berkeley.\n\nUnlike a traditional book 
 fair, and as we did last year, EBAB emphasizes conversations, both for 
 people who are new to anarchist ideas and for more experienced radicals and 
 activists. Our introductory conversations will be respectful, thematic, and 
 facilitated by experienced people. \n\nThe main room of the hall will house 
 booksellers, distributors, independent presses, and activist groups from 
 all over North America but with an emphasis on the Bay Area and California. 
 \n https://www.indybay.org/newsitems/2014/12/04/18765055.php
SUMMARY:East Bay Anarchist Bookfair
LOCATION:Humanist Hall, 390 27th St., Oakland, CA 94612
URL:https://www.indybay.org/newsitems/2014/12/04/18765055.php
DTSTART:20141207T180000Z
DTEND:20141208T040000Z
END:VEVENT
END:VCALENDAR
