BEGIN:VCALENDAR
VERSION:2.0
X-WR-CALNAME:www.indybay.org
PRODID:-//indybay/ical// v1.0//EN
BEGIN:VEVENT
UID:Indybay-18764875
SEQUENCE:18882558
CREATED:20141201T035900Z
DESCRIPTION:Occupy San Francisco hosts forums on diverse subjects on Monday nights at 
 the Global Exchange building. The forum on Dec 1 will be about 
 Kobani.\n\nSpeakers are:\nMutlu Civiroglu\nKurdish Affairs Analyst Focusing 
 on Syria and Turkey, Expert on YPG, from Washington DC via Skype\n"The 
 battle of Kobani, the Rojava experiment and it's significance" \n\nKaraman 
 Mamand\nEducator, Activist, Researcher\nMA in law, Koya University, Erbil, 
 Kurdistan\n"History, Oppression and the Kurdish question"\n\nArmineh 
 Megroian\nActivist, Artist, Organizer for Bay Area Light Brigade\n"How the 
 failure to support The Kurdish cause is a failure of the Left"\n\n 
 https://www.indybay.org/newsitems/2014/11/30/18764875.php
SUMMARY:The Battle of Kobani and the Kurdish Question
LOCATION:Place: Global Exchange Office\n2017 Mission St. (at 16th st)\nSan 
 Francisco, Ca 94110\n2nd floor, in the back
URL:https://www.indybay.org/newsitems/2014/11/30/18764875.php
DTSTART:20141202T020000Z
DTEND:20141202T050000Z
END:VEVENT
END:VCALENDAR
