BEGIN:VCALENDAR
VERSION:2.0
X-WR-CALNAME:www.indybay.org
PRODID:-//indybay/ical// v1.0//EN
BEGIN:VEVENT
UID:Indybay-18764861
SEQUENCE:18882526
CREATED:20141201T010100Z
DESCRIPTION:SDA Winter Holiday Party\nFriday, December 12, 4-6 PM\nSenior & Disability 
 Action Office\n1360 Mission St, Suite 400\n(Mission betw 9th & 10th 
 Sts)\n\nSDA members, volunteers, community partners, and friends are 
 invited to celebrate with our Board and staff at our Holiday 
 Party.\n\nBring food to share if you can.\nLive Music by Anthony 
 Harris.\n\nSDA is scent-free to assure access to everyone. 
 Thanks!\n\nContact us at 415-546-1333 or info@sdaction.org\n 
 https://www.indybay.org/newsitems/2014/11/30/18764861.php
SUMMARY:Senior & Disability Action Holiday Party
LOCATION:Senior & Disability Action Office\n1360 Mission St, Suite 400\n(Mission 
 betw 9th & 10th Sts)
URL:https://www.indybay.org/newsitems/2014/11/30/18764861.php
DTSTART:20141213T000000Z
DTEND:20141213T020000Z
END:VEVENT
END:VCALENDAR
