BEGIN:VCALENDAR
VERSION:2.0
X-WR-CALNAME:www.indybay.org
PRODID:-//indybay/ical// v1.0//EN
BEGIN:VEVENT
UID:Indybay-18764761
SEQUENCE:18882420
CREATED:20141128T231800Z
DESCRIPTION:Drop in to the Ecology Center between 1pm-4pm and choose from three tables 
 of free crafting activities! Learn to make small origami paper boxes out of 
 repurposed maps; create your own customized potato print wrapping paper 
 using natural Glob paints; learn to wrap gifts in beautiful, reusable, 
 salvaged cloth furoshiki wraps. No registration necessary — drop-ins 
 welcome.\n https://www.indybay.org/newsitems/2014/11/28/18764761.php
SUMMARY:Holiday Crafting: Handmade Wrappings
LOCATION:Ecology Center\n2530 San Pablo Ave\nBerkeley, CA, 94702
URL:https://www.indybay.org/newsitems/2014/11/28/18764761.php
DTSTART:20141207T210000Z
DTEND:20141208T000000Z
END:VEVENT
END:VCALENDAR
