BEGIN:VCALENDAR
VERSION:2.0
X-WR-CALNAME:www.indybay.org
PRODID:-//indybay/ical// v1.0//EN
BEGIN:VEVENT
UID:Indybay-18764709
SEQUENCE:18882300
CREATED:20141127T104000Z
DESCRIPTION:On 11/24/14, we discovered that Darren Wilson would not be indicted for 
 shooting and killing Michael Brown. We stand with Ferguson in the face of 
 injustice, racial violence, and police brutality.\n\nMeet at City Hall at 
 3:00 pm.\n\nRally at 3:30 pm with guest speakers.\n\n4:30 pm vigil for Mike 
 Brown. \n\nFor more details: 
 https://www.facebook.com/events/736374713109489/?pnref=story\n 
 https://www.indybay.org/newsitems/2014/11/27/18764709.php
SUMMARY:Stand with Ferguson
LOCATION:San Jose City Hall\n200 E Santa Clara St, San Jose, CA
URL:https://www.indybay.org/newsitems/2014/11/27/18764709.php
DTSTART:20141130T230000Z
DTEND:20141201T050000Z
END:VEVENT
END:VCALENDAR
