BEGIN:VCALENDAR
VERSION:2.0
X-WR-CALNAME:www.indybay.org
PRODID:-//indybay/ical// v1.0//EN
BEGIN:VEVENT
UID:Indybay-18764464
SEQUENCE:18881965
CREATED:20141122T225800Z
DESCRIPTION:Medea Benjamin, co-founder of CodePink for Peace, \ncomes to Santa Cruz on 
 Saturday December 6th \nfor a presentation and discussion \nat the Resource 
 Center for Nonviolence \n612 Ocean Street\nat 7PM!\n\nMedea, who recently 
 returned from a trip to Iran related to the Iran nuclear talks, will speak 
 on: \nBeyond War: Building a Brand New Peace Movement!\nfollowed by 
 Q&A\n\nShow up, Join in, and Participate!\nby donation!\n\nSpecial Bonus!!! 
  Medea will also join the United Nations Association of Santa Cruz for 
 their Human Rights Day Fair in downtown Santa Cruz on Saturday afternoon at 
 2PM and address human rights worldwide - in Abbott Square, at the MAH, on 
 Cooper Street!\n\ncosponsored by (a growing list): CodePink for Peace SC,  
 Santa Cruz Against Drones,  People United for Peace of SC County,  Food Not 
 Bombs SC,  United Nations Association of SC, Women's International League 
 for Peace and Freedom SC, Women in Black SC,  MediaWatch,  Peace and 
 Freedom Party SC,  Veterans for Peace SC,  Resource Center for 
 Nonviolence............... \n           \n\n 
 https://www.indybay.org/newsitems/2014/11/22/18764464.php
SUMMARY:Medea Benjamin in Santa Cruz
LOCATION:at the Resource Center for Nonviolence \n612 Ocean Street, in downtown 
 Santa Cruz \n
URL:https://www.indybay.org/newsitems/2014/11/22/18764464.php
DTSTART:20141207T030000Z
DTEND:20141207T050000Z
END:VEVENT
END:VCALENDAR
