BEGIN:VCALENDAR
VERSION:2.0
X-WR-CALNAME:www.indybay.org
PRODID:-//indybay/ical// v1.0//EN
BEGIN:VEVENT
UID:Indybay-18763967
SEQUENCE:18881224
CREATED:20141109T174500Z
DESCRIPTION:On February 21, 2014, the San Jose State University Police Department (UPD) 
 killed a community member and father of two children.\n\nPlease Join 
 "Justice 4 Josiah" on November 15, 2014 at 6:30pm, 8th and San Salvador 
 Streets for a candlelight vigil/balloon release in memory of Antonio Guzman 
 Lopez.  \n\nFollowing the vigil "Justice for Josiah" will be having a 
 Community Conversation at 405 S. 10th Street two blocks from where the 
 vigil will be held and Antonio was KILLED!\n \nPlease join and be part of 
 something bigger than yourself and help protect and prevent further harm to 
 the Children/Youth in our Community.\n\n6:30pm: Vigil/Balloon Release\n     
         8th and San Salvador Streets\n             San Jose\n\n7:00pm: St. 
 Paul's Methodist Church\n             405 S. 10th Street\n             San 
 Jose  \n\n https://www.indybay.org/newsitems/2014/11/09/18763967.php
SUMMARY:Candlelight Vigil & Community Conversation to Bring Healing
LOCATION:8th and San Salvador Streets, San Jose (Vigil at 6:30pm)\n405 S. 10th 
 Street, San Jose (Comm Conv at 7pm)
URL:https://www.indybay.org/newsitems/2014/11/09/18763967.php
DTSTART:20141116T023000Z
DTEND:20141116T050000Z
END:VEVENT
END:VCALENDAR
