BEGIN:VCALENDAR
VERSION:2.0
X-WR-CALNAME:www.indybay.org
PRODID:-//indybay/ical// v1.0//EN
BEGIN:VEVENT
UID:Indybay-18763296
SEQUENCE:18880180
CREATED:20141025T055400Z
DESCRIPTION:Join The Cabrillo College Justice League, Cabrillo students, faculty and 
 local community members for TWO viewing and discussion workshops on the 
 short (26 minute) film "Crisis in the Congo: Uncovering the 
 Truth".\n\nCrisis in the Congo: Uncovering The Truth explores the role that 
 the United States allies, Rwanda and Uganda, have played in triggering the 
 greatest humanitarian crisis at the dawn of the 21st century.\n\nWe will be 
 joined by Congolese activist Ngulula Kel to discuss her ideas of what can 
 be done on an individual and systemic level to alleviate the 
 suffering.\n\nLearn how CONFLICT MATERIALS are mined, find out more about 
 the issues facing the Congo and discuss ways that you can make a difference 
 in your life and within your community.\n 
 https://www.indybay.org/newsitems/2014/10/24/18763296.php
SUMMARY:Crisis in the Congo: Uncovering the Truth -A viewing and discussion workshop
LOCATION:SAC EAST Room 226\nCabrillo College\nAptos, CA 95062
URL:https://www.indybay.org/newsitems/2014/10/24/18763296.php
DTSTART:20141028T230000Z
DTEND:20141029T010000Z
END:VEVENT
END:VCALENDAR
