BEGIN:VCALENDAR
VERSION:2.0
X-WR-CALNAME:www.indybay.org
PRODID:-//indybay/ical// v1.0//EN
BEGIN:VEVENT
UID:Indybay-18762572
SEQUENCE:18879094
CREATED:20141008T024800Z
DESCRIPTION:"A Conversation About Being Homeless," for any folks who are or recently 
 were homeless, will be hosted Friday, October 10th, 2 pm to 4 pm at IHOP to 
 recognize World Homeless Action Day. \n\nThe gathering is to appreciate 
 people who have been dealing with homelessness; it is sponsored by a 
 committee of Smart Solutions to Homelessness, Lived Experience Group. IHOP 
 is mid-county, on 41st Avenue near Capitola Road (going toward the beach 
 from that intersection, right side 41st). Part of our casual conversation 
 will be facilitated circle-style by LEG co-chairs Janice Kern and Linda 
 Lemaster.\n\nLook for IHOP reserved area and our sign. Poster Art 
 resources, networking, share a bit of our stories, trade wisdom, hopefully 
 pancakes. \n\nAnyone experiencing homelessness, and their allies, are 
 welcome. In the event of a crowd, facilitated part of our conversation may 
 be limited for only folks experiencing homelessness, depending on decision 
 of those present. Casual means participate however much or little you want, 
 restaurant-appropriate. Bring important information if you want, travel 
 news...\n\nWe are bringing brief info on:\n*Santa Cruz County Strategic 
 Plan to End Homelessness forum dates\n*Western Regional Advocacy Project's 
 Homeless Bill of Rights\n*SCCo Affordable Housing Plan - changes brewing, 
 overview\n*Smart Solutions to Homelessness, allies campaign, 
 invite\n\nSponsors: Lived Experience Group, a committee of Smart Solutions 
 to Homelessness\n\nto contact Lived Experience Group about our activities, 
 needs, dreams, or to help with immediate rides, event costs:\nJanice at 
 sierra@atlantic.net or Linda at homes4everyone@yahoo.com\n\nSee website: 
 http://smartsolutionstohomelessness.org/\n\nWORLD HOMELESS ACTION DAY\n\nPS 
  please pass it on to street people and others you know who may be 
 interested: Oct 10, Friday \n 
 https://www.indybay.org/newsitems/2014/10/07/18762572.php
SUMMARY:Celebrate World Homeless Action Day October 10th with L.E.G.
LOCATION:IHOP, 41st Ave., Capitola
URL:https://www.indybay.org/newsitems/2014/10/07/18762572.php
DTSTART:20141010T210000Z
DTEND:20141010T230000Z
END:VEVENT
END:VCALENDAR
